BEGIN:VCALENDAR
VERSION:2.0
PRODID:-//MŠ Čakovice - ECPv5.13.0//NONSGML v1.0//EN
CALSCALE:GREGORIAN
METHOD:PUBLISH
X-WR-CALNAME:MŠ Čakovice
X-ORIGINAL-URL:https://mscakovice3.cz
X-WR-CALDESC:Akce na MŠ Čakovice
BEGIN:VTIMEZONE
TZID:Europe/Prague
BEGIN:DAYLIGHT
TZOFFSETFROM:+0100
TZOFFSETTO:+0200
TZNAME:CEST
DTSTART:20260329T010000
END:DAYLIGHT
BEGIN:STANDARD
TZOFFSETFROM:+0200
TZOFFSETTO:+0100
TZNAME:CET
DTSTART:20261025T010000
END:STANDARD
END:VTIMEZONE
BEGIN:VEVENT
DTSTART;TZID=Europe/Prague:20260513T160000
DTEND;TZID=Europe/Prague:20260513T180000
DTSTAMP:20260425T154615
CREATED:20260315T182120Z
LAST-MODIFIED:20260315T182120Z
UID:883-1778688000-1778695200@mscakovice3.cz
SUMMARY:Zahradní slavnost - provozovna Čtyřlístek
DESCRIPTION:
URL:https://mscakovice3.cz/kalendar/zahradni-slavnost-provozovna-ctyrlistek/
CATEGORIES:Čtyřlístek,kalendář a hlavní stránka
END:VEVENT
END:VCALENDAR