BEGIN:VCALENDAR
VERSION:2.0
PRODID:-//MŠ Čakovice - ECPv5.13.0//NONSGML v1.0//EN
CALSCALE:GREGORIAN
METHOD:PUBLISH
X-WR-CALNAME:MŠ Čakovice
X-ORIGINAL-URL:https://mscakovice3.cz
X-WR-CALDESC:Akce na MŠ Čakovice
BEGIN:VTIMEZONE
TZID:Europe/Prague
BEGIN:DAYLIGHT
TZOFFSETFROM:+0100
TZOFFSETTO:+0200
TZNAME:CEST
DTSTART:20260329T010000
END:DAYLIGHT
BEGIN:STANDARD
TZOFFSETFROM:+0200
TZOFFSETTO:+0100
TZNAME:CET
DTSTART:20261025T010000
END:STANDARD
END:VTIMEZONE
BEGIN:VEVENT
DTSTART;VALUE=DATE:20260407
DTEND;VALUE=DATE:20260408
DTSTAMP:20260425T154610
CREATED:20260315T181704Z
LAST-MODIFIED:20260315T181704Z
UID:875-1775520000-1775606399@mscakovice3.cz
SUMMARY:Polodenní výlet do Čechovy stodoly
DESCRIPTION:
URL:https://mscakovice3.cz/kalendar/polodenni-vylet-do-cechovy-stodoly/
CATEGORIES:Čtyřlístek,kalendář a hlavní stránka
END:VEVENT
END:VCALENDAR